BEGIN:VCALENDAR
VERSION:2.0
PRODID:-//124 Street - ECPv6.15.20//NONSGML v1.0//EN
CALSCALE:GREGORIAN
METHOD:PUBLISH
X-WR-CALNAME:124 Street
X-ORIGINAL-URL:https://124street.ca
X-WR-CALDESC:Events for 124 Street
REFRESH-INTERVAL;VALUE=DURATION:PT1H
X-Robots-Tag:noindex
X-PUBLISHED-TTL:PT1H
BEGIN:VTIMEZONE
TZID:America/Edmonton
BEGIN:DAYLIGHT
TZOFFSETFROM:-0700
TZOFFSETTO:-0600
TZNAME:MDT
DTSTART:20250309T090000
END:DAYLIGHT
BEGIN:STANDARD
TZOFFSETFROM:-0600
TZOFFSETTO:-0700
TZNAME:MST
DTSTART:20251102T080000
END:STANDARD
BEGIN:DAYLIGHT
TZOFFSETFROM:-0700
TZOFFSETTO:-0600
TZNAME:MDT
DTSTART:20260308T090000
END:DAYLIGHT
BEGIN:STANDARD
TZOFFSETFROM:-0600
TZOFFSETTO:-0700
TZNAME:MST
DTSTART:20261101T080000
END:STANDARD
BEGIN:DAYLIGHT
TZOFFSETFROM:-0700
TZOFFSETTO:-0600
TZNAME:MDT
DTSTART:20270314T090000
END:DAYLIGHT
BEGIN:STANDARD
TZOFFSETFROM:-0600
TZOFFSETTO:-0700
TZNAME:MST
DTSTART:20271107T080000
END:STANDARD
END:VTIMEZONE
BEGIN:VEVENT
DTSTART;VALUE=DATE:20260425
DTEND;VALUE=DATE:20260427
DTSTAMP:20260420T071738
CREATED:20260413T202055Z
LAST-MODIFIED:20260413T202055Z
UID:14576-1777075200-1777247999@124street.ca
SUMMARY:Edmonton Indie Bookstore Extravaganza at participating 124 Street & Area Independent Bookstores
DESCRIPTION:Celebrate Canadian Independent Bookstore Day with our independent bookstores on 124 Street & Area\, as they join together with other independent bookstores in Edmonton for the Edmonton Indie Bookstore Extravaganza on April 25 & 26! Hit up as many independent bookstores as you can and experience all the festivities they’ve got going on\, while checking out their collection of books. Participating 124 Street & Are bookstores are Ascendant Books\, Daisy Chain Book Co.\, and The Prints & The Paper. Check out their individual pages to stay updated on details for that weekend!
URL:https://124street.ca/event/edmonton-indie-bookstore-extravaganza-at-participating-124-street-area-independent-bookstores/
LOCATION:124 Street & Area
ATTACH;FMTTYPE=image/jpeg:https://124street.ca/wp-content/uploads/2026/04/652685321_18305956429277556_4743252518299180407_n.jpg
END:VEVENT
BEGIN:VEVENT
DTSTART;TZID=America/Edmonton:20260426T180000
DTEND;TZID=America/Edmonton:20260426T200000
DTSTAMP:20260420T071738
CREATED:20260413T203847Z
LAST-MODIFIED:20260413T203847Z
UID:14587-1777226400-1777233600@124street.ca
SUMMARY:Ken Forrester Wine Dinner at RGE RD
DESCRIPTION:Join RGE RD as they welcome Marthinus ven der Vyver\, from Ken Forrester Wines\, for this one night only exclusive dinner event. Guests will be treated to a paired\, bespoke menu curated by Chef Blair Lebsack and Chef Jared Dunn. \nNestled in the slopes of the Helderberg Mountain\, in the heart of Stellenbosch\, Ken Forrester is globally recognized as the “Home of Chenin Blanc”. Founded in 1993\, the winery is celebrated for producing award-winning\, terroir-driven wines. They farm sustainably with no herbicides or pesticides. The ground is tilled\, vines & leaves pruned and\, finally fruits all harvested by hand. This extra effort goes into improving the quality of their wines and also improving the life of the local community. \nBook your spot: https://www.exploretock.com/rgerd/event/600262/ken-forrester-wine-dinner
URL:https://124street.ca/event/ken-forrester-wine-dinner-at-rge-rd/
LOCATION:RGE RD
ATTACH;FMTTYPE=image/png:https://124street.ca/wp-content/uploads/2026/04/Ken-Forrester.png
END:VEVENT
BEGIN:VEVENT
DTSTART;VALUE=DATE:20260430
DTEND;VALUE=DATE:20260504
DTSTAMP:20260420T071738
CREATED:20260413T202302Z
LAST-MODIFIED:20260413T202302Z
UID:14580-1777507200-1777852799@124street.ca
SUMMARY:Jabulani Arts Festival at The Roxy Theatre
DESCRIPTION:Celebrate creativity\, connection\, and culture at the 3rd annual Jabulani Arts Festival at The Roxy Theatre. A four-day festival brings together African\, Caribbean\, and Black artists in a powerful showcase of music\, visual arts\, dance\, poetry\, storytelling\, and interactive theatre. All are welcome to witness this meaningful moment of recognition\, connection\, and celebration. \nIn addition to dynamic performances\, community members can participate in free workshops in visual arts\, drumming\, and storytelling—perfect for all ages and experience levels. The opening ceremonies is on Thursday\, April 30th at 6 pm. Tickets are free\, but booking is required. \n 
URL:https://124street.ca/event/jabulani-arts-festival-at-the-roxy-theatre/
LOCATION:Roxy Theatre\, 10708 124 St\, Edmonton\, Alberta\, T5M 0H1\, Canada
ATTACH;FMTTYPE=image/png:https://124street.ca/wp-content/uploads/2026/04/Jabulani-2026-1080x1350-1.png
END:VEVENT
BEGIN:VEVENT
DTSTART;TZID=America/Edmonton:20260507T180000
DTEND;TZID=America/Edmonton:20260507T210000
DTSTAMP:20260420T071738
CREATED:20260413T203445Z
LAST-MODIFIED:20260413T203445Z
UID:14584-1778176800-1778187600@124street.ca
SUMMARY:Spring Soirée: Luxe Shopping\, Live Jazz\, Wine Tastings at Blogger Armoire
DESCRIPTION:An evening of world-class luxury shopping\, socializing\, good sips\, and jazzy sounds in support of the YWCA Welcome Home Shelter Project. \n\n\n\n\nBlogger Armoire is back with one of thei ICONIC Semi-Annual Shopping Parties! Launching their incredible Spring/Summer collections with a bang – and they’re giving back to the YWCA Welcome Home Project in the Process! May 7th from 6PM and 9PM! \nJoin them for an evening of luxurious shopping\, exclusive designer trunk-shows\, the finest sips\, live jazz with the most fashionable crowd in town!
URL:https://124street.ca/event/spring-soiree-luxe-shopping-live-jazz-wine-tastings-at-blogger-armoire/
LOCATION:Blogger Armoire\, 12328 104 Ave NW\, Edmonton\, Alberta\, T5N 0V3\, Canada
ATTACH;FMTTYPE=image/jpeg:https://124street.ca/wp-content/uploads/2026/04/2026-Spring-Soiree_4x6-Master-scaled.jpg
END:VEVENT
BEGIN:VEVENT
DTSTART;VALUE=DATE:20260620
DTEND;VALUE=DATE:20260621
DTSTAMP:20260420T071738
CREATED:20260413T200343Z
LAST-MODIFIED:20260413T200343Z
UID:14561-1781913600-1781999999@124street.ca
SUMMARY:Make Music Edmonton 2026
DESCRIPTION:
URL:https://124street.ca/event/make-music-edmonton-2026/
LOCATION:124 Street & Area
END:VEVENT
BEGIN:VEVENT
DTSTART;TZID=America/Edmonton:20261113T160000
DTEND;TZID=America/Edmonton:20261115T200000
DTSTAMP:20260420T071738
CREATED:20260305T224455Z
LAST-MODIFIED:20260312T193614Z
UID:14488-1794585600-1794772800@124street.ca
SUMMARY:All Is Bright 2026
DESCRIPTION:AIB 2025 PHOTOS
URL:https://124street.ca/event/all-is-bright-2026/
LOCATION:124 Street & Area
ATTACH;FMTTYPE=image/jpeg:https://124street.ca/wp-content/uploads/2026/03/All_is_Bright_2025-scaled.jpg
END:VEVENT
END:VCALENDAR